BEGIN:VCALENDAR
VERSION:2.0
PRODID:-//Eventin//Event Calendar//EN
CALSCALE:GREGORIAN
METHOD:PUBLISH
BEGIN:VEVENT
UID:419416a8551bd59769f2c33ff45e1e8d@trizon.mx
SUMMARY:Tour del Bacanora
DESCRIPTION:El Tour del Bacanora está por comenzar este 17 de febrero para
  todos los y las ciclistas interesados en este increíble recorrido de 154 
 kilómetros que comenzará en Hermosillo y terminará en Suaqui Grande: \n\
 n\n\nEn este paseo se promoverán productos y empresas regionales\, especia
 lmente la emblemática bebida del bacanora.\n\n\n\nCATEGORÍAS:\n\n\n\n\nAb
 ierta Varonil\n\n\n\nAbierta Femenil\n\n\n\n\nPREMIACIÓN VARONIL: \n\n\n\
 n\n1er lugar: $7\,000 MXN\n\n\n\n2do lugar: $5\,000 MXN\n\n\n\n3er. lugar: 
 $3\,000 MXN\n\n\n\n\nPREMIACIÓN FEMENIL:\n\n\n\n\n1er lugar: $5\,000 MXN\n
 \n\n\n2do lugar: $3\,000 MXN\n\n\n\n3er lugar: $2\,000 MXN
LOCATION:Hermosillo-Suaqui Grande
DTSTAMP:20260422T165727Z
DTSTART:20240217T070000Z
DTEND:20260422T165727Z
END:VEVENT
END:VCALENDAR
